BEGIN:VCALENDAR
VERSION:2.0
PRODID:-//Aves de Huesca - ECPv6.0.9//NONSGML v1.0//EN
CALSCALE:GREGORIAN
METHOD:PUBLISH
X-WR-CALNAME:Aves de Huesca
X-ORIGINAL-URL:https://avesdehuesca.com
X-WR-CALDESC:Eventos para Aves de Huesca
REFRESH-INTERVAL;VALUE=DURATION:PT1H
X-Robots-Tag:noindex
X-PUBLISHED-TTL:PT1H
BEGIN:VTIMEZONE
TZID:Europe/Madrid
BEGIN:DAYLIGHT
TZOFFSETFROM:+0100
TZOFFSETTO:+0200
TZNAME:CEST
DTSTART:20240331T010000
END:DAYLIGHT
BEGIN:STANDARD
TZOFFSETFROM:+0200
TZOFFSETTO:+0100
TZNAME:CET
DTSTART:20241027T010000
END:STANDARD
END:VTIMEZONE
BEGIN:VEVENT
DTSTART;TZID=Europe/Madrid:20240914T061500
DTEND;TZID=Europe/Madrid:20240914T130000
DTSTAMP:20260423T051635
CREATED:20240627T165612Z
LAST-MODIFIED:20240627T165612Z
UID:902-1726294500-1726318800@avesdehuesca.com
SUMMARY:Anillamiento en la alberca de Albore\, Montmesa
DESCRIPTION:Jornada de anillamiento en la estacion de esfuerzo constante de la alberca de Albore en Montmesa\, al final del sendero verde. \nSalida a las 6\,15 desde las naves de Arizon y Gracia en poligono Monzu\, calle Ronda industria \nContacto  Nacho 617 314 571   Javier 610 414 154
URL:https://avesdehuesca.com/event/anillamiento-en-la-alberca-de-albore-montmesa-3/
END:VEVENT
BEGIN:VEVENT
DTSTART;TZID=Europe/Madrid:20240914T061500
DTEND;TZID=Europe/Madrid:20240914T130000
DTSTAMP:20260423T051635
CREATED:20240910T110943Z
LAST-MODIFIED:20240910T110943Z
UID:927-1726294500-1726318800@avesdehuesca.com
SUMMARY:Anillamiento en estación de anillamiento de Bolea
DESCRIPTION:Jornada de anillamiento cientifico de aves en la estacion de anillamiento de Bolea\, dentro del programa de seguimiento de la migracion Postnupcial de la curruca capirotada (Sylvia atricapilla) \nCtra de Loarre junto al cruce de Bolea \nSalida a las 6\,15 desde las naves de Arizon y Gracia en poligono Monzu\, calle Ronda industria \nContacto  Nacho 617 314 571\, Javier 610 414 154\, Toño  654 536 018
URL:https://avesdehuesca.com/event/anillamiento-en-estacion-de-anillamiento-de-bolea-2/
END:VEVENT
END:VCALENDAR