BEGIN:VCALENDAR
VERSION:2.0
PRODID:-//Aves de Huesca - ECPv6.0.9//NONSGML v1.0//EN
CALSCALE:GREGORIAN
METHOD:PUBLISH
X-WR-CALNAME:Aves de Huesca
X-ORIGINAL-URL:https://avesdehuesca.com
X-WR-CALDESC:Eventos para Aves de Huesca
REFRESH-INTERVAL;VALUE=DURATION:PT1H
X-Robots-Tag:noindex
X-PUBLISHED-TTL:PT1H
BEGIN:VTIMEZONE
TZID:Europe/Madrid
BEGIN:DAYLIGHT
TZOFFSETFROM:+0100
TZOFFSETTO:+0200
TZNAME:CEST
DTSTART:20260329T010000
END:DAYLIGHT
BEGIN:STANDARD
TZOFFSETFROM:+0200
TZOFFSETTO:+0100
TZNAME:CET
DTSTART:20261025T010000
END:STANDARD
END:VTIMEZONE
BEGIN:VEVENT
DTSTART;TZID=Europe/Madrid:20260419T100000
DTEND;TZID=Europe/Madrid:20260419T130000
DTSTAMP:20260419T222852
CREATED:20260125T181713Z
LAST-MODIFIED:20260217T173556Z
UID:1307-1776592800-1776603600@avesdehuesca.com
SUMMARY:Aporte al muladar del Tiacuto en Nueno (Huesca)
DESCRIPTION:Aporte al comedero de aves necrófagas del Tiacuto en Nueno. \nSe puede  subir andando desde Santa Eulalia de la Peña\, 30-40  minutos dificultad media-baja \, o dejar el coche en el aparcamiento del Salto Roldan y subir andando desde allí. En este caso es mas larga pero mas suave (50 minutos) \nEn los dos casos calcular el tiempo necesario para estar en la explanada a las 10\,30h \nDebido a que  la pista de acceso es de uso restringido\,  y se necesita autorización del gobierno de Aragón para el transito\, y que la pista se encuentra en mal estado en los últimos tramos (solo accesible para todoterreno)\, no es recomendable la subida al muladar con su vehículo (el GOO no se hace responsable de posibles   sanciones ni de los daños ocasionados al mismo. \nLa salida de los miembros del GOO que suben la comida será a las 1o h desde las naves de Arizon y Gracia en poligono Monzu\, calle Ronda industria. \nContacto  Carmelo 699 958 053\,  Santiago 627 623 182\,  Nacho 617 314 571
URL:https://avesdehuesca.com/event/aporte-al-muladar-del-tiacuto-en-nueno-huesca-13/
END:VEVENT
END:VCALENDAR