BEGIN:VCALENDAR
VERSION:2.0
PRODID:-//Aves de Huesca - ECPv6.0.9//NONSGML v1.0//EN
CALSCALE:GREGORIAN
METHOD:PUBLISH
X-ORIGINAL-URL:https://avesdehuesca.com
X-WR-CALDESC:Eventos para Aves de Huesca
REFRESH-INTERVAL;VALUE=DURATION:PT1H
X-Robots-Tag:noindex
X-PUBLISHED-TTL:PT1H
BEGIN:VTIMEZONE
TZID:Europe/Madrid
BEGIN:DAYLIGHT
TZOFFSETFROM:+0100
TZOFFSETTO:+0200
TZNAME:CEST
DTSTART:20250330T010000
END:DAYLIGHT
BEGIN:STANDARD
TZOFFSETFROM:+0200
TZOFFSETTO:+0100
TZNAME:CET
DTSTART:20251026T010000
END:STANDARD
BEGIN:DAYLIGHT
TZOFFSETFROM:+0100
TZOFFSETTO:+0200
TZNAME:CEST
DTSTART:20260329T010000
END:DAYLIGHT
BEGIN:STANDARD
TZOFFSETFROM:+0200
TZOFFSETTO:+0100
TZNAME:CET
DTSTART:20261025T010000
END:STANDARD
END:VTIMEZONE
BEGIN:VEVENT
DTSTART;TZID=Europe/Madrid:20260419T100000
DTEND;TZID=Europe/Madrid:20260419T130000
DTSTAMP:20260419T202643
CREATED:20260125T181713Z
LAST-MODIFIED:20260217T173556Z
UID:1307-1776592800-1776603600@avesdehuesca.com
SUMMARY:Aporte al muladar del Tiacuto en Nueno (Huesca)
DESCRIPTION:Aporte al comedero de aves necrófagas del Tiacuto en Nueno. \nSe puede  subir andando desde Santa Eulalia de la Peña\, 30-40  minutos dificultad media-baja \, o dejar el coche en el aparcamiento del Salto Roldan y subir andando desde allí. En este caso es mas larga pero mas suave (50 minutos) \nEn los dos casos calcular el tiempo necesario para estar en la explanada a las 10\,30h \nDebido a que  la pista de acceso es de uso restringido\,  y se necesita autorización del gobierno de Aragón para el transito\, y que la pista se encuentra en mal estado en los últimos tramos (solo accesible para todoterreno)\, no es recomendable la subida al muladar con su vehículo (el GOO no se hace responsable de posibles   sanciones ni de los daños ocasionados al mismo. \nLa salida de los miembros del GOO que suben la comida será a las 1o h desde las naves de Arizon y Gracia en poligono Monzu\, calle Ronda industria. \nContacto  Carmelo 699 958 053\,  Santiago 627 623 182\,  Nacho 617 314 571
URL:https://avesdehuesca.com/event/aporte-al-muladar-del-tiacuto-en-nueno-huesca-13/
END:VEVENT
BEGIN:VEVENT
DTSTART;TZID=Europe/Madrid:20260418T063000
DTEND;TZID=Europe/Madrid:20260418T130000
DTSTAMP:20260419T202643
CREATED:20260125T183629Z
LAST-MODIFIED:20260203T191421Z
UID:1319-1776493800-1776517200@avesdehuesca.com
SUMMARY:Anillamiento en San Lorenzo del Flumen
DESCRIPTION:Jornada de anillamiento en San Lorenzo del Flumen \n  \nContacto Eduardo 636 649 853    Nacho 617 314 571
URL:https://avesdehuesca.com/event/anillamiento-en-san-lorenzo-del-flumen-3/
END:VEVENT
BEGIN:VEVENT
DTSTART;TZID=Europe/Madrid:20260411T061500
DTEND;TZID=Europe/Madrid:20260411T130000
DTSTAMP:20260419T202643
CREATED:20260125T182126Z
LAST-MODIFIED:20260223T183245Z
UID:1311-1775888100-1775912400@avesdehuesca.com
SUMMARY:Anillamiento en la estacion EMPA de Sotonera en Montmesa
DESCRIPTION:Anillamiento en estacion de esfuerzo constante (EMPA) de Sotonera en Montmesa \nLa estacion de anillamiento esta situada junto al punto ornitologico\, al final del sendero verde \nContacto  Nacho 617 31 45 71 \nSalida a las 6\,15 h desde las naves de Arizon y Gracia en poligono Monzu\, calle Ronda industria. \n 
URL:https://avesdehuesca.com/event/anillamiento-en-la-estacion-empa-de-sootonera-en-montmesa/
END:VEVENT
BEGIN:VEVENT
DTSTART;TZID=Europe/Madrid:20260405T100000
DTEND;TZID=Europe/Madrid:20260405T130000
DTSTAMP:20260419T202643
CREATED:20260125T181153Z
LAST-MODIFIED:20260209T181628Z
UID:1304-1775383200-1775394000@avesdehuesca.com
SUMMARY:Aporte al muladar del Tiacuto en Nueno (Huesca)
DESCRIPTION:Aporte al comedero de aves necrófagas del Tiacuto en Nueno. \nSe puede  subir andando desde Santa Eulalia de la Peña\, 30-40  minutos dificultad media-baja \, o dejar el coche en el aparcamiento del Salto Roldan y subir andando desde allí. En este caso es mas larga pero mas suave (50 minutos) \nEn los dos casos calcular el tiempo necesario para estar en la explanada a las 10\,30h \n  \nLa salida de los miembros del GOO que suben la comida será a las 1o h desde las naves de Arizon y Gracia en poligono Monzu\, calle Ronda industria. \nContacto  Carmelo 699 958 053\,  Santiago 627 623 182\,  Nacho 617 314 571
URL:https://avesdehuesca.com/event/aporte-al-muladar-del-tiacuto-en-nueno-huesca-12/
END:VEVENT
BEGIN:VEVENT
DTSTART;TZID=Europe/Madrid:20260404T063000
DTEND;TZID=Europe/Madrid:20260404T130000
DTSTAMP:20260419T202643
CREATED:20260311T081707Z
LAST-MODIFIED:20260311T081707Z
UID:1440-1775284200-1775307600@avesdehuesca.com
SUMMARY:Anillamiento en el entorno del campamento militar de Igries (Huesca)
DESCRIPTION:Jornada de anillamiento en el entorno del campamento militar de Igries (Huesca) \nSalida a las 6.30h desde las naves de Arizon y Gracia en polígono Monzu\,  C/ Ronda industria de Huesca \nContacto Nacho 617 314 571
URL:https://avesdehuesca.com/event/anillamiento-en-el-entorno-del-campamento-militar-de-igries-huesca/
END:VEVENT
BEGIN:VEVENT
DTSTART;TZID=Europe/Madrid:20260328T063000
DTEND;TZID=Europe/Madrid:20260328T133000
DTSTAMP:20260419T202643
CREATED:20260209T105628Z
LAST-MODIFIED:20260209T105628Z
UID:1328-1774679400-1774704600@avesdehuesca.com
SUMMARY:Anillamiento en el entorno de Abiego
DESCRIPTION:Jornada de anillamiento en el entorno de Abiego \nEl puesto de anillamiento se colocara junto a la carretera que accede al Campo de futbol y al monasterio \nSalida a las 6.30h desde las naves de Arizon y Gracia\, en poligono Monzu\, calle Ronda industria \nContacto Nacho 617 314 571
URL:https://avesdehuesca.com/event/anillamiento-en-el-entorno-de-abiego/
END:VEVENT
BEGIN:VEVENT
DTSTART;TZID=Europe/Madrid:20260328T063000
DTEND;TZID=Europe/Madrid:20260328T123000
DTSTAMP:20260419T202643
CREATED:20260304T165537Z
LAST-MODIFIED:20260327T172802Z
UID:1438-1774679400-1774701000@avesdehuesca.com
SUMMARY:Anillamiento en estacion EMPA de Sariñena
DESCRIPTION:Anillamiento en estacion  de esfuerzo constante (EMPA) de Sariñena \nPuesto de anillamiento junto al observatorio del carrizal sur. A las 6.30h se procederá al montaje de las redes. \nContacto  Alvaro 656 894 845 \nPor motivos meteorológicos  se adelanta la actividad al sábado\, ya que la previsión de viento del domingo \, nos impediría realizar la jornada
URL:https://avesdehuesca.com/event/anillamiento-en-estacion-empa-de-sarinena/
END:VEVENT
BEGIN:VEVENT
DTSTART;TZID=Europe/Madrid:20260322T100000
DTEND;TZID=Europe/Madrid:20260322T130000
DTSTAMP:20260419T202643
CREATED:20260125T181009Z
LAST-MODIFIED:20260217T173428Z
UID:1302-1774173600-1774184400@avesdehuesca.com
SUMMARY:Aporte al muladar del Tiacuto en Nueno (Huesca)
DESCRIPTION:Aporte al comedero de aves necrófagas del Tiacuto en Nueno. \nSe puede  subir andando desde Santa Eulalia de la Peña\, 30-40  minutos dificultad media-baja \, o dejar el coche en el aparcamiento del Salto Roldan y subir andando desde allí. En este caso es mas larga pero mas suave (50 minutos) \nEn los dos casos calcular el tiempo necesario para estar en la explanada a las 10\,30h \nDebido a que  la pista de acceso es de uso restringido\,  y se necesita autorización del gobierno de Aragón para el transito\, y que la pista se encuentra en mal estado en los últimos tramos (solo accesible para todoterreno)\, no es recomendable la subida al muladar con su vehículo (el GOO no se hace responsable de posibles   sanciones ni de los daños ocasionados al mismo. \nLa salida de los miembros del GOO que suben la comida será a las 1o h desde las naves de Arizon y Gracia en poligono Monzu\, calle Ronda industria. \nContacto  Carmelo 699 958 053\,  Santiago 627 623 182\,  Nacho 617 314 571
URL:https://avesdehuesca.com/event/aporte-al-muladar-del-tiacuto-en-nueno-huesca-11/
END:VEVENT
BEGIN:VEVENT
DTSTART;TZID=Europe/Madrid:20260321T061500
DTEND;TZID=Europe/Madrid:20260321T130000
DTSTAMP:20260419T202643
CREATED:20260125T181952Z
LAST-MODIFIED:20260320T124712Z
UID:1309-1774073700-1774098000@avesdehuesca.com
SUMMARY:Anillamiento en la estacion (EMPA ) de Sotonera en Montmesa
DESCRIPTION:Anillamiento en estacion de esfuerzo constante (EMPA) de Sotonera en Montmesa \nLa estacion de anillamiento esta situada junto al punto ornitologico\, al final del sendero verde \nContacto  Nacho 617 31 45 71 \nSalida a las 6\,30 h desde las naves de Arizon y Gracia en poligono Monzu\, calle Ronda industria. \n 
URL:https://avesdehuesca.com/event/anillamiento-en-la-estacion-empa-de-sotonera-en-montmesa/
END:VEVENT
BEGIN:VEVENT
DTSTART;TZID=Europe/Madrid:20260314T063000
DTEND;TZID=Europe/Madrid:20260314T130000
DTSTAMP:20260419T202643
CREATED:20260311T083210Z
LAST-MODIFIED:20260311T083210Z
UID:1442-1773469800-1773493200@avesdehuesca.com
SUMMARY:Anillamiento en Soto de Pompenillo
DESCRIPTION:Jornada de anillamiento en el soto de Pompenillo (Huesca) \nCtra A-212 hasta cruce de Pompenillo\, ctra HU-V-8101\, y antes de llegar al puente\, camino a la derecha hacia el soto \nSalida a las 6.30 desde naves de Arizon y Gracia en poligono monzu\, calle Ronda industria de Huesca \nContacto Nacho 617 314 571
URL:https://avesdehuesca.com/event/anillamiento-en-soto-de-pompenillo-2/
END:VEVENT
BEGIN:VEVENT
DTSTART;TZID=Europe/Madrid:20260308T100000
DTEND;TZID=Europe/Madrid:20260308T130000
DTSTAMP:20260419T202643
CREATED:20260125T180835Z
LAST-MODIFIED:20260217T173016Z
UID:1300-1772964000-1772974800@avesdehuesca.com
SUMMARY:Aporte al muladar del Tiacuto en Nueno(Huesca)
DESCRIPTION:Aporte al comedero de aves necrófagas del Tiacuto en Nueno. \nSe puede  subir andando desde Santa Eulalia de la Peña\, 30-40  minutos dificultad media-baja \, o dejar el coche en el aparcamiento del Salto Roldan y subir andando desde allí. En este caso es mas larga pero mas suave (50 minutos) \nEn los dos casos calcular el tiempo necesario para estar en la explanada a las 10\,30h \nDebido a que  la pista de acceso es de uso restringido\,  y se necesita autorización del gobierno de Aragón para el transito\, y que la pista se encuentra en mal estado en los últimos tramos (solo accesible para todoterreno)\, no es recomendable la subida al muladar con su vehículo (el GOO no se hace responsable de posibles   sanciones ni de los daños ocasionados al mismo. \nLa salida de los miembros del GOO que suben la comida será a las 1o h desde las naves de Arizon y Gracia en poligono Monzu\, calle Ronda industria. \nContacto  Carmelo 699 958 053\,  Santiago 627 623 182\,  Nacho 617 314 571
URL:https://avesdehuesca.com/event/aporte-al-muladar-del-tiacuto-en-nuenohuesca-2/
END:VEVENT
BEGIN:VEVENT
DTSTART;TZID=Europe/Madrid:20260307T063000
DTEND;TZID=Europe/Madrid:20260307T130000
DTSTAMP:20260419T202643
CREATED:20260125T180442Z
LAST-MODIFIED:20260125T180512Z
UID:1297-1772865000-1772888400@avesdehuesca.com
SUMMARY:Anillamiento en soto de Buñales\, zona norte
DESCRIPTION:Anillamiento en soto de Buñales (zona norte)\, junto a la zona de las balsas \nSalda a las 6.30h desde las naves de Arizon y Gracia en poligono Monzu\, calle Ronda indusria \nContacto Nacho 617 31 45 71
URL:https://avesdehuesca.com/event/anillamie-to-en-soto-de-bunales-zona-norte/
END:VEVENT
BEGIN:VEVENT
DTSTART;TZID=Europe/Madrid:20260301T053000
DTEND;TZID=Europe/Madrid:20260301T133000
DTSTAMP:20260419T202643
CREATED:20260209T103836Z
LAST-MODIFIED:20260209T103846Z
UID:1324-1772343000-1772371800@avesdehuesca.com
SUMMARY:Anillamiento en el el entorno de Artieda (Zaragoza)
DESCRIPTION:Jornada de anillamiento en el entorno del molino de Artieda\,  en el soto del rio Aragón \, cerca del embalse de Yesa. \nEsta actividad esta incluida en el programa de actividades de la fiesta de despedida de las grullas en Artieda \nSalida a las 5\,30 desde las naves de Arizon y Gracia\, en poligono Monzu \, calle Ronda industria. \nContacto Nacho 617 314 571
URL:https://avesdehuesca.com/event/anillamiento-en-el-el-entorno-de-artieda-zaragoza/
END:VEVENT
BEGIN:VEVENT
DTSTART;TZID=Europe/Madrid:20260228T071500
DTEND;TZID=Europe/Madrid:20260228T130000
DTSTAMP:20260419T202643
CREATED:20260125T175045Z
LAST-MODIFIED:20260209T103233Z
UID:1295-1772262900-1772283600@avesdehuesca.com
SUMMARY:Limpieza y  reparación  de cajas nido en Salas
DESCRIPTION:Limpieza y reparación de cajas nido dgorion comun\, molinero y autillo en ele proyecto del entorno de  Salas \nSalida a las 7\,15 desde la ermita de Salas \nContacto  Nacho 617  31 45 71
URL:https://avesdehuesca.com/event/limpieza-y-reparacion-de-cajas-nido-en-salas/
END:VEVENT
BEGIN:VEVENT
DTSTART;TZID=Europe/Madrid:20260227T193000
DTEND;TZID=Europe/Madrid:20260227T203000
DTSTAMP:20260419T202643
CREATED:20260210T180542Z
LAST-MODIFIED:20260212T075130Z
UID:1342-1772220600-1772224200@avesdehuesca.com
SUMMARY:Charla  "El anillamiento científico de aves" por Nacho Arizon
DESCRIPTION:Charla presentación «El anillamiento científico de aves» \n¿Por qué se anillan las aves? \, ¿Cuándo comenzó el anillamiento científico?\, ¿Qué datos conseguimos con ello?. Todas estas preguntas y muchas mas\, las responderá Nacho Arizón\,  anillador experto y coordinador del grupo de anillamiento Grupo Ornitológico Oscense-Aves de Huesca\, en la presentación que  tendrá lugar en el local de la Asociación naturalista  Ansar\, en C/ Armisen N.º 10 en Zaragoza. \n 
URL:https://avesdehuesca.com/event/charla-el-anillamiento-cientifico-de-aves-por-nacho-arizon/
END:VEVENT
BEGIN:VEVENT
DTSTART;TZID=Europe/Madrid:20260226T190000
DTEND;TZID=Europe/Madrid:20260226T200000
DTSTAMP:20260419T202643
CREATED:20260212T074539Z
LAST-MODIFIED:20260212T075034Z
UID:1344-1772132400-1772136000@avesdehuesca.com
SUMMARY:Presentación en Zaragoza  del libro  "QUEBRANTAHUESOS\, sellos  postales y conservación global"
DESCRIPTION:Presentación del libro  «Quebrantahuesos\, sellos postales y conservación global»\, por los autores  Kees Woutersen y Alberto Ara. \nDia 26 de febrero de 2026 \nHora:  19\,00h \nLugar: Centro de documentación del agua y medio ambiente de Zaragoza (CDMAZ) \nDirección:  C/ Echegaray y Caballero nº 18\,   Zaragoza \n  \nOrganiza : Grupo Ornitológico Oscense(GOO)  y SEO/ BirdLife – Aragon
URL:https://avesdehuesca.com/event/presentacion-en-zaragoza-del-libro-quebrantahuesos-sellos-postales-y-conservacion-global/
END:VEVENT
BEGIN:VEVENT
DTSTART;TZID=Europe/Madrid:20260223T061500
DTEND;TZID=Europe/Madrid:20260223T130000
DTSTAMP:20260419T202643
CREATED:20260223T183649Z
LAST-MODIFIED:20260223T183649Z
UID:1429-1771827300-1771851600@avesdehuesca.com
SUMMARY:Anillamiento en estacion EMPA de Sotonera
DESCRIPTION:Anillamiento en estacion de esfuerzo constante (EMPA) de Sotonera en Montmesa \nLa estacion de anillamiento esta situada junto al punto ornitologico\, al final del sendero verde \nContacto  Nacho 617 31 45 71 \nSalida a las 6\,15 h desde las naves de Arizon y Gracia en poligono Monzu\, calle Ronda industria.
URL:https://avesdehuesca.com/event/anillamiento-en-estacion-empa-de-sotonera-2/
END:VEVENT
BEGIN:VEVENT
DTSTART;TZID=Europe/Madrid:20260222T100000
DTEND;TZID=Europe/Madrid:20260222T130000
DTSTAMP:20260419T202643
CREATED:20251110T181203Z
LAST-MODIFIED:20260217T172043Z
UID:1250-1771754400-1771765200@avesdehuesca.com
SUMMARY:Aporte al muladar del Tiacuto en Nueno (Huesca)
DESCRIPTION:Aporte al comedero de aves necrófagas del Tiacuto en Nueno. \nSe recomienda subir andando desde Santa Eulalia de la Peña\, 30-40  minutos dificultad media-baja\, o desde el aparcamiento del Salto Roldan\, con un recorrido mas suave pero mas largo (50-minutos)\, calculando estar en la explanada del observatorio a las 10\,30 h \nDebido a que  la pista de acceso es de uso restringido\,  y se necesita autorización del gobierno de Aragón para el transito\, y que la pista se encuentra en mal estado en los últimos tramos (solo accesible para todoterreno)\, no es recomendable la subida al muladar con su vehículo (el GOO no se hace responsable de posibles   sanciones ni de los daños ocasionados al mismo. \nSalida a las 1o h desde las naves de Arizon y Gracia en poligono Monzu\, calle Ronda industria. \nContacto  Carmelo 699 958 053\,  Santiago 627 623 182\,  Nacho 617 314 571
URL:https://avesdehuesca.com/event/aporte-al-muladar-del-tiacuto-en-nueno-huesca-10/
END:VEVENT
BEGIN:VEVENT
DTSTART;TZID=Europe/Madrid:20260221T063000
DTEND;TZID=Europe/Madrid:20260221T130000
DTSTAMP:20260419T202643
CREATED:20260125T171840Z
LAST-MODIFIED:20260209T103003Z
UID:1287-1771655400-1771678800@avesdehuesca.com
SUMMARY:Anillamiento en estacion EMPA  de Sotonera en Montmesa
DESCRIPTION:Anillamiento en estacion de esfuerzo constante (EMPA) de Sotonera en Montmesa \nLa estacion de anillamiento esta situada junto al punto ornitologico\, al final del sendero verde \nContacto  Nacho 617 31 45 71 \nSalida a las 6\,30 h desde las naves de Arizon y Gracia en poligono Monzu\, calle Ronda industria. \n 
URL:https://avesdehuesca.com/event/anillamie-to-en-estacion-empa-de-sotonera-en-montmesa/
END:VEVENT
BEGIN:VEVENT
DTSTART;TZID=Europe/Madrid:20260215T063000
DTEND;TZID=Europe/Madrid:20260215T130000
DTSTAMP:20260419T202643
CREATED:20260125T170417Z
LAST-MODIFIED:20260209T175843Z
UID:1285-1771137000-1771160400@avesdehuesca.com
SUMMARY:Anillamiento en el soto de Buñales\, zona norte
DESCRIPTION:Jornada de anillamiento en el soto del rio flumen cerca de Buñales (zona norte) \nSalida a las 6.30h desde las naves de Arizon y Gracia en poligono Monzu\, calle Ronda industria. \nContacto  Nacho 617 31 45 71
URL:https://avesdehuesca.com/event/anillamiento-en-el-soto-de-bunales-zona-norte/
END:VEVENT
BEGIN:VEVENT
DTSTART;TZID=Europe/Madrid:20260208T100000
DTEND;TZID=Europe/Madrid:20260208T130000
DTSTAMP:20260419T202643
CREATED:20251110T181052Z
LAST-MODIFIED:20251110T181052Z
UID:1248-1770544800-1770555600@avesdehuesca.com
SUMMARY:Aporte al muladar del Tiacuto en Nueno (Huesca)
DESCRIPTION:Aporte al comedero de aves necrófagas del Tiacuto en Nueno. \nSe recomienda subir andando desde Santa Eulalia de la Peña\, 30-40  minutos dificultad media-baja\, calculando estar en la explanada del observatorio a las 10\,30 h \nEn caso de subir con su vehiculo\, debe ser todoterreno y bajo su responsabilidad\, ya que se trata de una pista de uso restringido por la CHE \nSalida a las 1o h desde las naves de Arizon y Gracia en poligono Monzu\, calle Ronda industria. \nContacto  Carmelo 699 958 053\,  Santiago 627 623 182\,  Nacho 617 314 571
URL:https://avesdehuesca.com/event/aporte-al-muladar-del-tiacuto-en-nueno-huesca-9/
END:VEVENT
BEGIN:VEVENT
DTSTART;TZID=Europe/Madrid:20260131T063000
DTEND;TZID=Europe/Madrid:20260131T130000
DTSTAMP:20260419T202643
CREATED:20251110T182403Z
LAST-MODIFIED:20251110T183633Z
UID:1254-1769841000-1769864400@avesdehuesca.com
SUMMARY:Anillamiento en estacion EMAI de Pompenillo
DESCRIPTION:Anillamiento en la estacion de anillamiento de Pompenillo dentro del programa EMAI (Estaciones de Monitorización de Aves Invernantes) \nSalida a las 6.30 h desde las naves de Arizon y Gracia en poligono Monzu\, calle Ronda industria \nContacto Nacho 617 314 571
URL:https://avesdehuesca.com/event/anillamiento-en-estacion-emai-de-pompenillo-7/
END:VEVENT
BEGIN:VEVENT
DTSTART;TZID=Europe/Madrid:20260125T100000
DTEND;TZID=Europe/Madrid:20260125T130000
DTSTAMP:20260419T202643
CREATED:20251110T180911Z
LAST-MODIFIED:20251110T181421Z
UID:1246-1769335200-1769346000@avesdehuesca.com
SUMMARY:Aporte al muladar del Tiacuto en Nueno(Huesca)
DESCRIPTION:Aporte al comedero de aves necrófagas del Tiacuto en Nueno. \nSe recomienda subir andando desde Santa Eulalia de la Peña\, 30-40  minutos dificultad media-baja\, calculando estar en la explanada del observatorio a las 10\,30 h \nEn caso de subir con su vehiculo\, debe ser todoterreno y bajo su responsabilidad\, ya que se trata de una pista de uso restringido por la CHE \nSalida a las 1o h desde las naves de Arizon y Gracia en poligono Monzu\, calle Ronda industria. \nContacto  Carmelo 699 958 053\,  Santiago 627 623 182\,  Nacho 617 314 571
URL:https://avesdehuesca.com/event/aporte-al-muladar-del-tiacuto-en-nuenohuesca/
END:VEVENT
BEGIN:VEVENT
DTSTART;TZID=Europe/Madrid:20260124T063000
DTEND;TZID=Europe/Madrid:20260124T130000
DTSTAMP:20260419T202643
CREATED:20251110T183840Z
LAST-MODIFIED:20251110T183840Z
UID:1264-1769236200-1769259600@avesdehuesca.com
SUMMARY:Jornada de anillamiento en estacion EMPA de Sotonera en Montmesa
DESCRIPTION:Jornada de anillamiento en la estación de esfuerzo constante (EMPA) de Montmesa \nAlberca de Alboré\, al final del sendero verde\, la estacion se ubica en el punto ornitológico. \nSalida a las 6\,15 h desde las naves de Arizon y Gracia en poligono Monzu \, calla Ronda industria \nContacto Nacho 617 314 571
URL:https://avesdehuesca.com/event/jornada-de-anillamiento-en-estacion-empa-de-sotonera-en-montmesa/
END:VEVENT
BEGIN:VEVENT
DTSTART;TZID=Europe/Madrid:20260117T063000
DTEND;TZID=Europe/Madrid:20260117T130000
DTSTAMP:20260419T202643
CREATED:20251110T182818Z
LAST-MODIFIED:20251117T112845Z
UID:1258-1768631400-1768654800@avesdehuesca.com
SUMMARY:Anillamiento en el soto de Buñales
DESCRIPTION:Jornada de anillamiento en la zona norte del soto de Buñales\,  junto a las balsas \nSalida a las 6\,30 desde las naves de Arizon y Gracia en poligono Monzu\, calle Ronda industria \nContacto Nacho 617 314 571
URL:https://avesdehuesca.com/event/anillamiento-en-el-soto-de-bunales-5/
END:VEVENT
BEGIN:VEVENT
DTSTART;TZID=Europe/Madrid:20260111T100000
DTEND;TZID=Europe/Madrid:20260111T130000
DTSTAMP:20260419T202643
CREATED:20251110T180753Z
LAST-MODIFIED:20251110T181337Z
UID:1244-1768125600-1768136400@avesdehuesca.com
SUMMARY:Aporte al muladar del Tiacuto en Nueno
DESCRIPTION:Aporte al comedero de aves necrófagas del Tiacuto en Nueno. \nSe recomienda subir andando desde Santa Eulalia de la Peña\, 30-40  minutos dificultad media-baja\, calculando estar en la explanada del observatorio a las 10\,30 h \nEn caso de subir con su vehiculo\, debe ser todoterreno y bajo su responsabilidad\, ya que se trata de una pista de uso restringido por la CHE \nSalida a las 1o h desde las naves de Arizon y Gracia en poligono Monzu\, calle Ronda industria. \nContacto  Carmelo 699 958 053\,  Santiago 627 623 182\,  Nacho 617 314 571
URL:https://avesdehuesca.com/event/aporte-al-muladar-del-tiacuto-en-nueno-59/
END:VEVENT
BEGIN:VEVENT
DTSTART;TZID=Europe/Madrid:20260110T080000
DTEND;TZID=Europe/Madrid:20260111T170000
DTSTAMP:20260419T202643
CREATED:20251110T183141Z
LAST-MODIFIED:20251117T113321Z
UID:1260-1768032000-1768150800@avesdehuesca.com
SUMMARY:Censo de aves acuaticas
DESCRIPTION:Censo anual de aves acuaticas  de las principales zonas humedas. unos dias antes se repartiran las zonas a censar. \nContacto Santiago 627 623 182\, Nacho 617 314 571\, Kees 619 123 999
URL:https://avesdehuesca.com/event/censo-de-aves-acuaticas/
END:VEVENT
BEGIN:VEVENT
DTSTART;TZID=Europe/Madrid:20260104T063000
DTEND;TZID=Europe/Madrid:20260104T130000
DTSTAMP:20260419T202643
CREATED:20251110T182641Z
LAST-MODIFIED:20251110T182641Z
UID:1256-1767508200-1767531600@avesdehuesca.com
SUMMARY:Anillamiento en la laguna de Sariñena
DESCRIPTION:Jornada de anillamiento en el carrizal de la laguna de Sariñena\, en la orilla sureste \nSalida a las 6015 desde las naves de Arizon y Gracia en poligono Monzu\, calle Ronda industria \nContacto  Santi 627 623 182\, Nacho 617 314 571
URL:https://avesdehuesca.com/event/anillamiento-en-la-laguna-de-sarinena-10/
END:VEVENT
BEGIN:VEVENT
DTSTART;TZID=Europe/Madrid:20260103T063000
DTEND;TZID=Europe/Madrid:20260103T130000
DTSTAMP:20260419T202643
CREATED:20251110T182143Z
LAST-MODIFIED:20251117T112936Z
UID:1252-1767421800-1767445200@avesdehuesca.com
SUMMARY:Anillamiento en estacion EMAI de Pompenillo
DESCRIPTION:Anillamiento en la estacion de anillamiento de Pompenillo dentro del programa EMAI (Estaciones de Monitorización de Aves Invernantes) \nSalida a las 6.30 h desde las naves de Arizon y Gracia en poligono Monzu\, calle Ronda industria \nContacto Nacho 617 314 571
URL:https://avesdehuesca.com/event/anillamiento-en-estacion-emai-de-pompenillo-6/
END:VEVENT
BEGIN:VEVENT
DTSTART;TZID=Europe/Madrid:20251228T100000
DTEND;TZID=Europe/Madrid:20251228T130000
DTSTAMP:20260419T202643
CREATED:20250701T062757Z
LAST-MODIFIED:20250701T062757Z
UID:1160-1766916000-1766926800@avesdehuesca.com
SUMMARY:Aporte al muladar del Tiacuto en Nueno
DESCRIPTION:Aporte al comedero de aves necrófagas del Tiacuto en Nueno. \nSe recomienda subir andando desde Santa Eulalia de la Peña\, 30-40  minutos dificultad media-baja\, calculando estar en la explanada del observatorio a las 10\,30 h \nEn caso de subir con su vehiculo\, debe ser todoterreno y bajo su responsabilidad\, ya que se trata de una pista de uso restringido por la CHE \nSalida a las 1o h desde las naves de Arizon y Gracia en poligono Monzu\, calle Ronda industria. \nContacto  Carmelo 699 958 053\,  Santiago 627 623 182\,  Nacho 617 314 571
URL:https://avesdehuesca.com/event/aporte-al-muladar-del-tiacuto-en-nueno-58/
END:VEVENT
END:VCALENDAR