BEGIN:VCALENDAR
VERSION:2.0
PRODID:-//Aves de Huesca - ECPv6.0.9//NONSGML v1.0//EN
CALSCALE:GREGORIAN
METHOD:PUBLISH
X-ORIGINAL-URL:https://avesdehuesca.com
X-WR-CALDESC:Eventos para Aves de Huesca
REFRESH-INTERVAL;VALUE=DURATION:PT1H
X-Robots-Tag:noindex
X-PUBLISHED-TTL:PT1H
BEGIN:VTIMEZONE
TZID:Europe/Madrid
BEGIN:DAYLIGHT
TZOFFSETFROM:+0100
TZOFFSETTO:+0200
TZNAME:CEST
DTSTART:20230326T010000
END:DAYLIGHT
BEGIN:STANDARD
TZOFFSETFROM:+0200
TZOFFSETTO:+0100
TZNAME:CET
DTSTART:20231029T010000
END:STANDARD
END:VTIMEZONE
BEGIN:VEVENT
DTSTART;TZID=Europe/Madrid:20230302T064500
DTEND;TZID=Europe/Madrid:20230302T130000
DTSTAMP:20260423T134741
CREATED:20230302T172135Z
LAST-MODIFIED:20230302T172135Z
UID:458-1677739500-1677762000@avesdehuesca.com
SUMMARY:Anillamiento en el soto de Pompenillo
DESCRIPTION:Jornada de anillamiento en el soto de Pompenillo \nSalida a las 06.45h desde las naves de Arizon y Gracia en poligono monzu\, calle Ronda industria \nContacto Nacho Arizon 617 31 45 71
URL:https://avesdehuesca.com/event/anillamiento-en-el-soto-de-pompenillo/
END:VEVENT
BEGIN:VEVENT
DTSTART;TZID=Europe/Madrid:20230226T064500
DTEND;TZID=Europe/Madrid:20230226T130000
DTSTAMP:20260423T134741
CREATED:20230216T180649Z
LAST-MODIFIED:20230221T154103Z
UID:441-1677393900-1677416400@avesdehuesca.com
SUMMARY:Anillamiento en San Lorenzo del Flumen
DESCRIPTION:Jornada de anillamiento científico en San Lorenzo del Flumen \nSalida a las 06.45h desde las naves de Arizon y Gracia en poligono Monzu\, calle Ronda Industria \nContacto  Santiago  627 623 182  Nacho  617 314 571 \nCtra de Grañen a Lalueza\,  junto a la rotonda de entrada a Lalueza\, cogervel desvio hacia San Lorenzo del Flumen\, para cerca de la granja\, antes de cruzar la via.
URL:https://avesdehuesca.com/event/anillamiento-en-el-soto-de-lascasas/
END:VEVENT
BEGIN:VEVENT
DTSTART;TZID=Europe/Madrid:20230225T070000
DTEND;TZID=Europe/Madrid:20230225T130000
DTSTAMP:20260423T134741
CREATED:20230203T172019Z
LAST-MODIFIED:20230203T172019Z
UID:409-1677308400-1677330000@avesdehuesca.com
SUMMARY:Anillamiento en el soto de Tabernas del Isuela (Huesca)
DESCRIPTION:Jornada de anillamiento cientifico de aves en el entorno de Tabernas del Isuela (Huesca) \nSalida a las 7 h desde las naves de Arizon y Gracia en poligono Monzu\, calle Ronda industria \nContacto Nacho  617 31 45 71
URL:https://avesdehuesca.com/event/anillamiento-en-el-soto-de-tabernas-del-isuela-huesca/
END:VEVENT
BEGIN:VEVENT
DTSTART;TZID=Europe/Madrid:20230219T100000
DTEND;TZID=Europe/Madrid:20230219T130000
DTSTAMP:20260423T134741
CREATED:20230127T175032Z
LAST-MODIFIED:20230127T180834Z
UID:373-1676800800-1676811600@avesdehuesca.com
SUMMARY:Aporte al comedero de aves necrofagas del Tiacuto (Nueno)
DESCRIPTION:Aporte al comedero de aves necrofagas del Tiacuto en Nueno. Salida a las 10.00h desde las naves de Arizon y Gracia en poligono Monzu\, C/ Ronda industria \nEn el caso de subir andando desde Santa Eulalia de la Peña\, seguir las indicaciones y localización de la web. En caso de subir con su vehiculo\, se recomienda todoterreno y bajo su responsabilidad\, ya que se trata de una pista de uso restringido \nContacto  Santiago  627 62 31 82\,   Carmelo  699 95 80 53\,    Nacho  617 31 45 71
URL:https://avesdehuesca.com/event/aporte-al-comedero-de-aves-necrofagas-del-tiacuto-en-nueno/
END:VEVENT
BEGIN:VEVENT
DTSTART;TZID=Europe/Madrid:20230218T073000
DTEND;TZID=Europe/Madrid:20230218T130000
DTSTAMP:20260423T134741
CREATED:20230214T154027Z
LAST-MODIFIED:20230214T154027Z
UID:420-1676705400-1676725200@avesdehuesca.com
SUMMARY:Anillamiento en la alberca de Loreto
DESCRIPTION:Jornada de anillamiento científico de aves en el entorno de la alberca de Loreto  (Huesca) \nSalida a las 7 h desde las naves de Arizon y Gracia en poligono monzu\, calle Ronda industria \nLocalizacion del evento siguiendo las indicaciones de la web \nContacto  Santiago  627  623 182    Nacho  617 314 571
URL:https://avesdehuesca.com/event/anillamiento-en-la-alberca-de-loreto/
END:VEVENT
BEGIN:VEVENT
DTSTART;TZID=Europe/Madrid:20230212T064500
DTEND;TZID=Europe/Madrid:20230212T130000
DTSTAMP:20260423T134741
CREATED:20230127T181348Z
LAST-MODIFIED:20230127T181611Z
UID:382-1676184300-1676206800@avesdehuesca.com
SUMMARY:Anillamiento en la laguna de Sariñena
DESCRIPTION:Jornada de anillamiento  cientifico de aves en el entorno del  carrizal de la laguna de Sariñena\, en la orilla sur \nEntrando por la entrada cerca del centro de salud\, sin dejar el camino que va al observatorio\,  junto al camino se situara el puesto de anillamiento \nContacto  Santiago 627 62 31 82\,    Nacho  617 31 45 71
URL:https://avesdehuesca.com/event/anillamiento-en-la-laguna-de-sarinena-2/
END:VEVENT
BEGIN:VEVENT
DTSTART;TZID=Europe/Madrid:20230205T100000
DTEND;TZID=Europe/Madrid:20230205T130000
DTSTAMP:20260423T134741
CREATED:20230127T174537Z
LAST-MODIFIED:20230127T180042Z
UID:371-1675591200-1675602000@avesdehuesca.com
SUMMARY:Aporte al comedero de aves necrofagas del Tiacuto (Nueno)
DESCRIPTION:Aporte al muladar de aves necrofagas del Tiacuto en Nueno. Salida a las 10\,00 desde las naves de Arizon y Gracia en poligono Monzu\, C/ Ronda industria. \nPara subir andando desde Santa Eulalia de la Peña\, seguir indicaciones y localizacion de la web. En caso de subir con su vehiculo\, se recomienda todoterreno y bajo su responsabilidad\, ya que se trata de una pista de uso restringido por la CHE \nContacto  Santiago 627 62 31 82\,   Carmelo  699 95 80 53\,    Nacho  617 31 45 71
URL:https://avesdehuesca.com/event/aporte-al-comedero-de-aves-necrofagas-del-tiacuto-nueno/
END:VEVENT
BEGIN:VEVENT
DTSTART;TZID=Europe/Madrid:20230204T070000
DTEND;TZID=Europe/Madrid:20230204T130000
DTSTAMP:20260423T134741
CREATED:20230127T175723Z
LAST-MODIFIED:20230127T181721Z
UID:376-1675494000-1675515600@avesdehuesca.com
SUMMARY:Anillamiento en la Alberca de Albore (Montmesa)
DESCRIPTION:Jornada de anillamiento cientifico de aves en el entorno de la alberca de Albore (Montmesa) al lado del pinar del sendero verde \nSalida a las 7.00h desde las naves de Arizon y Gracia en poligono Monzu\, C/ Ronda Industria \nContacto  Nacho Arizon  617 31 45 71
URL:https://avesdehuesca.com/event/anillamiento-en-la-alberca-de-albore-montmesa/
END:VEVENT
BEGIN:VEVENT
DTSTART;TZID=Europe/Madrid:20230129T064500
DTEND;TZID=Europe/Madrid:20230129T134500
DTSTAMP:20260423T134741
CREATED:20230125T165006Z
LAST-MODIFIED:20230125T165006Z
UID:363-1674974700-1674999900@avesdehuesca.com
SUMMARY:Anillamiento en la laguna de Sariñena
DESCRIPTION:Jornada de anillamiento científico de aves en el entorno del carrizal de la laguna de Sariñena\, en su orilla sur\nSalida a las 06\,45 desde la nave de Arizón y Gracia en el polígono Monzú\, calle ronda industria\nHorario: desde las 06\,45 hasta las 13\,45\nTeléfonos : Santiago 627 623 182 \, Nacho 617 314 571\nInformación adicional : Localización carrizal orilla sur\, entrando desde el camino cerca del cetro de salud\, solo seguir el camino que bordea la laguna hasta llegar al puesto de anillamiento \, que será visible
URL:https://avesdehuesca.com/event/anillamiento-en-la-laguna-de-sarinena/
END:VEVENT
BEGIN:VEVENT
DTSTART;TZID=Europe/Madrid:20230128T070000
DTEND;TZID=Europe/Madrid:20230128T123000
DTSTAMP:20260423T134741
CREATED:20230125T164659Z
LAST-MODIFIED:20230125T164659Z
UID:361-1674889200-1674909000@avesdehuesca.com
SUMMARY:Anillamiento en el soto de Pompenillo (Huesca)
DESCRIPTION:Jornada de anillamiento cientifico de aves en la estación de anillamiento del soto de Pompenillo en Huesca\, dentro del programa EMAI (Monitorización de aves invernantes)\nSalida : 07.00h desde la nave de Arizon y Gracia en polígono Monzú C/ Ronda Industria\nHorario desde la s 07.00 hasta las 12\,30 h\nTeléfonos Nacho 617 314 571\nInformación adicional : Localización\, desde ctra de Sangarren\, desvío a Pompenillo y antes del puente\, camino a la derecha\, hacia el soto.
URL:https://avesdehuesca.com/event/anillamiento-en-el-soto-de-pompenillo-huesca/
END:VEVENT
END:VCALENDAR